BEGIN:VCALENDAR
VERSION:2.0
PRODID:-//HOMeAGE - ECPv6.15.1.1//NONSGML v1.0//EN
CALSCALE:GREGORIAN
METHOD:PUBLISH
X-WR-CALNAME:HOMeAGE
X-ORIGINAL-URL:https://homeage-dn.eu
X-WR-CALDESC:Events for HOMeAGE
REFRESH-INTERVAL;VALUE=DURATION:PT1H
X-Robots-Tag:noindex
X-PUBLISHED-TTL:PT1H
BEGIN:VTIMEZONE
TZID:UTC
BEGIN:STANDARD
TZOFFSETFROM:+0000
TZOFFSETTO:+0000
TZNAME:UTC
DTSTART:20230101T000000
END:STANDARD
END:VTIMEZONE
BEGIN:VEVENT
DTSTART;TZID=UTC:20231017T140000
DTEND;TZID=UTC:20231020T170000
DTSTAMP:20260424T202348
CREATED:20231013T115048Z
LAST-MODIFIED:20240611T132745Z
UID:4138-1697551200-1697821200@homeage-dn.eu
SUMMARY:Marie Curie Doctoral Network - HOMeAGE Training Event 1
DESCRIPTION:HOMeAGE \nAdvancing Research and Training on Ageing\, Place and Home \nThe 1st Training Event takes place at the Institute for Lifecourse & Society from October 17th to October 20th 2023 inclusive. \nThe programme for the events which includes the session abstracts and learning outcomes as well as the biographies of speakers is available here.
URL:https://homeage-dn.eu/event/marie-curie-doctoral-network-homeage-training-event/
LOCATION:Institute for Lifecourse & Society\, Galway\, H91 C7DK\, Ireland
ATTACH;FMTTYPE=image/png:https://homeage-dn.eu/wp-content/uploads/2023/10/Screenshot-2023-10-13-140902.png
END:VEVENT
END:VCALENDAR