BEGIN:VCALENDAR
VERSION:2.0
PRODID:-//HOMeAGE - ECPv6.15.1.1//NONSGML v1.0//EN
CALSCALE:GREGORIAN
METHOD:PUBLISH
X-WR-CALNAME:HOMeAGE
X-ORIGINAL-URL:https://homeage-dn.eu
X-WR-CALDESC:Events for HOMeAGE
REFRESH-INTERVAL;VALUE=DURATION:PT1H
X-Robots-Tag:noindex
X-PUBLISHED-TTL:PT1H
BEGIN:VTIMEZONE
TZID:UTC
BEGIN:STANDARD
TZOFFSETFROM:+0000
TZOFFSETTO:+0000
TZNAME:UTC
DTSTART:20230101T000000
END:STANDARD
END:VTIMEZONE
BEGIN:VEVENT
DTSTART;TZID=UTC:20231019T090000
DTEND;TZID=UTC:20231019T170000
DTSTAMP:20260425T001233
CREATED:20231002T091912Z
LAST-MODIFIED:20231013T134951Z
UID:3913-1697706000-1697734800@homeage-dn.eu
SUMMARY:Advancing Research and Training on Ageing\, Place and Home
DESCRIPTION:Ageing in place is critical to the future of ageing societies\, and fundamental to older people’s longer-term health and wellbeing outcomes. Yet\, there are significant concerns that efforts are failing to support ageing in place\, and failing to engage with critical challenges regarding needs and systems\, home and belonging\, and rights and voice as we age in place. This lecture and training event will explore our research and policy understanding of these and other ageing in place challenges. Drawing on contributions from international scholars and policy experts\, these sessions will address: (1) the conceptualisation of ageing in place in contemporary societies; (2) socio-economic determinants of remaining in place; (3) spatial justice and age-friendly policy for heterogeneous groups; and (4) critical thinking in international policy and scholarly debates on ageing in place. \nRegister here for the public event.  The full programme is available here.
URL:https://homeage-dn.eu/event/advancing-research-and-training-on-ageing-place-and-home/
LOCATION:Institute for Lifecourse & Society\, Galway\, H91 C7DK\, Ireland
ATTACH;FMTTYPE=image/jpeg:https://homeage-dn.eu/wp-content/uploads/2023/10/MWP-JUN-15-14329-1-scaled.jpg
END:VEVENT
END:VCALENDAR