BEGIN:VCALENDAR
VERSION:2.0
PRODID:-//HOMeAGE - ECPv6.15.1.1//NONSGML v1.0//EN
CALSCALE:GREGORIAN
METHOD:PUBLISH
X-ORIGINAL-URL:https://homeage-dn.eu
X-WR-CALDESC:Events for HOMeAGE
REFRESH-INTERVAL;VALUE=DURATION:PT1H
X-Robots-Tag:noindex
X-PUBLISHED-TTL:PT1H
BEGIN:VTIMEZONE
TZID:UTC
BEGIN:STANDARD
TZOFFSETFROM:+0000
TZOFFSETTO:+0000
TZNAME:UTC
DTSTART:20240101T000000
END:STANDARD
END:VTIMEZONE
BEGIN:VEVENT
DTSTART;VALUE=DATE:20240410
DTEND;VALUE=DATE:20240411
DTSTAMP:20260424T085616
CREATED:20240308T113532Z
LAST-MODIFIED:20240611T132702Z
UID:4333-1712707200-1712793599@homeage-dn.eu
SUMMARY:Marie Curie Doctoral Network - HOMeAGE Training Event 2
DESCRIPTION:The next HOMeAGE Training Event will take place in Ancona\, Italy between 9th and 12th April 2024.\nAs a part of the second HOMeAGE Training Event we will be making some of sessions on April 10th open to the public. \nTo join us for these public session please click the link below. \n \nThe programme for the Public Sessions is available here 
URL:https://homeage-dn.eu/event/marie-curie-doctoral-network-training-event-2/
LOCATION:Online event\, Ancona\, Italy
ATTACH;FMTTYPE=image/jpeg:https://homeage-dn.eu/wp-content/uploads/2023/08/nathan-anderson-sSN3kRQ-TO0-unsplash.jpg
END:VEVENT
END:VCALENDAR