BEGIN:VCALENDAR
VERSION:2.0
PRODID:-//HOMeAGE - ECPv6.15.1.1//NONSGML v1.0//EN
CALSCALE:GREGORIAN
METHOD:PUBLISH
X-WR-CALNAME:HOMeAGE
X-ORIGINAL-URL:https://homeage-dn.eu
X-WR-CALDESC:Events for HOMeAGE
REFRESH-INTERVAL;VALUE=DURATION:PT1H
X-Robots-Tag:noindex
X-PUBLISHED-TTL:PT1H
BEGIN:VTIMEZONE
TZID:Europe/Helsinki
BEGIN:DAYLIGHT
TZOFFSETFROM:+0200
TZOFFSETTO:+0300
TZNAME:EEST
DTSTART:20240331T010000
END:DAYLIGHT
BEGIN:STANDARD
TZOFFSETFROM:+0300
TZOFFSETTO:+0200
TZNAME:EET
DTSTART:20241027T010000
END:STANDARD
END:VTIMEZONE
BEGIN:VEVENT
DTSTART;TZID=Europe/Helsinki:20241009T093000
DTEND;TZID=Europe/Helsinki:20241009T174500
DTSTAMP:20260423T223938
CREATED:20240926T093245Z
LAST-MODIFIED:20241004T073228Z
UID:4757-1728466200-1728495900@homeage-dn.eu
SUMMARY:Marie Curie Doctoral Network - HOMeAGE Training Event 3
DESCRIPTION:The next HOMeAGE Training Event will take place in Frankfurt\, Germany between 8th and 11th October 2024. As a part of the third HOMeAGE Training Event we will be making some sessions on October 9th open to the public. \nHome & Belonging in Place \nBackground and purpose: Research demonstrates the importance of a sense of home and belonging for later life identity and wellbeing in place. However\, with more diverse residential life-course trajectories\, the multifaceted impact of globalisation\, environmental change and digitalisation\, and the continued institutional segregation of some groups\, links with place can be more tenuous. The risk of older people becoming disembedded from localities\, or failing to embed at all\, may as such be that much greater. Drawing on contributions from international scholars and practice experts\, this lecture and training event will explore challenges and opportunities in fostering home and belonging amongst diverse older populations\, in diverse contexts. \nThe public session programme is available here \nRegister to attend here
URL:https://homeage-dn.eu/event/marie-curie-doctoral-network-homeage-training-event-3/
LOCATION:PEG Building\, Campus Westend\, Theodor-W.-Adorno-Platz 6\, 60323 Frankfurt\, Germany
ATTACH;FMTTYPE=image/jpeg:https://homeage-dn.eu/wp-content/uploads/2023/09/kel-avelino-l3r2YqBTUXs-unsplash.jpg
END:VEVENT
END:VCALENDAR